BEGIN:VCALENDAR
VERSION:2.0
PRODID:-//wp-events-plugin.com//7.2.3.1//EN
TZID:America/Chicago
X-WR-TIMEZONE:America/Chicago
BEGIN:VEVENT
UID:50@tapmmediators.org
DTSTART;TZID=America/Chicago:20260504T110000
DTEND;TZID=America/Chicago:20260504T120000
DTSTAMP:20260423T220747Z
URL:https://tapmmediators.org/events/tapm-speaker-series-the-fear-behind-t
 he-table-fear-intelligence-for-mediators/
SUMMARY:TAPM Speaker Series: The Fear Behind the Table: Fear Intelligence f
 or Mediators ​
DESCRIPTION:Free to members\, $20 for non-members. Pending 1 hour of Genera
 l CLE and 1 hour of General CME. \n\nEvery mediator knows the moment. Two 
 parties\, dug in\, emotions running hot\, and the deal slipping away. What
  you may not have considered is that fear is driving that room\, and if yo
 u haven't dealt with your own\, you're working at a disadvantage.
ATTACH;FMTTYPE=image/jpeg:https://tapmmediators.org/wp-content/uploads/202
 6/04/Jw-Blue-Shirt-2-scaled.jpeg
CATEGORIES:Event,Speaker Series
END:VEVENT
BEGIN:VTIMEZONE
TZID:America/Chicago
X-LIC-LOCATION:America/Chicago
BEGIN:DAYLIGHT
DTSTART:20260308T030000
TZOFFSETFROM:-0600
TZOFFSETTO:-0500
TZNAME:CDT
END:DAYLIGHT
END:VTIMEZONE
END:VCALENDAR