BEGIN:VCALENDAR
VERSION:2.0
PRODID:-//wp-events-plugin.com//7.2.3.1//EN
TZID:America/Chicago
X-WR-TIMEZONE:America/Chicago
BEGIN:VEVENT
UID:30@tapmmediators.org
DTSTART;TZID=America/Chicago:20240205T110000
DTEND;TZID=America/Chicago:20240205T123000
DTSTAMP:20240130T090324Z
URL:https://tapmmediators.org/events/tapm-speaker-series-presents-the-hon-
 douglas-c-mintz-ret-perspectives-from-the-bench/
SUMMARY:TAPM Speaker Series Presents: The Hon. Douglas C. Mintz (Ret.) - Pe
 rspectives From The Bench
DESCRIPTION:Free to members\, $20 for non-members.\n\nAt 11amCT/12pmET: Joi
 n us for “Perspectives From the Bench\," an insightful and informative e
 vent designed to bridge the gap between mediators and the legal system. Le
 d by a retired judge\, this interactive event offers a unique opportunity 
 for mediators to gain valuable knowledge about navigating the complex dyna
 mics between judges\, attorneys\, and mediators. By sharing personal exper
 iences and insights\, the former judge will shed light on what approaches 
 and strategies are effective\, as well as those that may not yield favorab
 le results. Attendees will come away from this event with a deeper underst
 anding of the intricacies involved in working with judges and attorneys\, 
 enabling them to enhance their mediation skills and effectively navigate t
 he legal landscape.\n\nThis event will be followed at 12pmCT 1pmET by our 
 regular TAPM Member Meeting. We hope you can join us for networking and fe
 llowship!\n\n1 hour of general CME/CLE pending.\n\n
ATTACH;FMTTYPE=image/jpeg:https://tapmmediators.org/wp-content/uploads/202
 3/12/Image-1.jpeg
CATEGORIES:Event
END:VEVENT
BEGIN:VTIMEZONE
TZID:America/Chicago
X-LIC-LOCATION:America/Chicago
BEGIN:STANDARD
DTSTART:20231105T010000
TZOFFSETFROM:-0500
TZOFFSETTO:-0600
TZNAME:CST
END:STANDARD
END:VTIMEZONE
END:VCALENDAR